BEGIN:VCALENDAR
VERSION:2.0
PRODID:-//eventon.com NONSGML v1.0//EN
CALSCALE:GREGORIAN
METHOD:PUBLISH
BEGIN:VEVENT
UID:69ed30927fff3
DTSTAMP:20260425T212226Z
DTSTART:20201021T113100Z
DTEND:20201021T130000Z
LOCATION:https://zoom.us/webinar/register/WN_pF-886OXRKyBXAuOo_srKw
SUMMARY:Housing Rights for Families with Special Needs Children
DESCRIPTION:The next GSPT webinar on Housing Rights for Families with Speci
 al Needs ChildrenÂ is scheduled for Wednesday\,  OctoberÂ 21 Â from 11:30 a
 m to 1:00 pmÂ PDT with guestÂ speakerÂ CeliaÂ McGuinness\,  a seasoned disa
 bility rights trial lawyer.Â  Many parents who advocate for their childrenâ
 €™s rights in school and with Regional Centers do not know their children[.
 .]\nhttps://dalelawfirm.com/events/housing-rights-for-families-with-special
 -needs-children/var/event_access
URL:https://dalelawfirm.com/events/housing-rights-for-families-with-special-needs-children/var/event_access
END:VEVENT
END:VCALENDAR