BEGIN:VCALENDAR
VERSION:2.0
PRODID:-//eventon.com NONSGML v1.0//EN
CALSCALE:GREGORIAN
METHOD:PUBLISH
BEGIN:VEVENT
UID:69ed446aaf7bd
DTSTAMP:20260425T224706Z
DTSTART:20201117T223000Z
DTEND:20201118T000000Z
LOCATION:https://zoom.us/webinar/register/WN_qKjos6axRXOqXz5owShXAg
SUMMARY:Maximizing Social Security Benefits for Special Needs Families and Beyond
DESCRIPTION:Please mark your calendar for our next webinar on November 17 a
 t 11:30 am PDT with Avram L. Sacks Esq.\,  a national expert in Social Secu
 rity law.  Mr. Sacks will discuss the different types of benefits\,  criti
 cal issues around the application process and interplay of different benefi
 ts.    If you[..]\nhttps://dalelawfirm.com/events/maximizing-social-secur
 ity-benefits-for-special-needs-families-and-beyond/var/event_access
URL:https://dalelawfirm.com/events/maximizing-social-security-benefits-for-special-needs-families-and-beyond/var/event_access
END:VEVENT
END:VCALENDAR