BEGIN:VCALENDAR
VERSION:2.0
PRODID:-//eventon.com NONSGML v1.0//EN
CALSCALE:GREGORIAN
METHOD:PUBLISH
BEGIN:VEVENT
UID:69ed5ca09cbfe
DTSTAMP:20260426T003024Z
DTSTART:20201205T210000Z
DTEND:20201205T230000Z
LOCATION:https://zoom.us/webinar/register/WN_qKjos6axRXOqXz5owShXAg
SUMMARY:Congreso Familiar : Conservatorship: Limited Guardianship and Alternatives for People with Disabilities
DESCRIPTION:Jennifer Steneberg will be giving an overview of limited guardi
 anship and the process for establishing a guardianship through the Court at
  the Congreso Familiar Virtual 2020 on  Saturday\,  December 5\,  2020 at 
 10:00.  It will include information on possible methods for retaining the 
 legal authority to make decisions without the[..]\nhttps://dalelawfirm.com/
 events/conservatorship-limited-guardianship-and-alternatives-of-legal-decis
 ion-making-for-people-with-disabilities/var/event_access
URL:https://dalelawfirm.com/events/conservatorship-limited-guardianship-and-alternatives-of-legal-decision-making-for-people-with-disabilities/var/event_access
END:VEVENT
END:VCALENDAR