BEGIN:VCALENDAR
VERSION:2.0
PRODID:-//eventon.com NONSGML v1.0//EN
CALSCALE:GREGORIAN
METHOD:PUBLISH
BEGIN:VEVENT
UID:69ed719689181
DTSTAMP:20260426T015950Z
DTSTART:20201204T230000Z
DTEND:20201205T003000Z
LOCATION:https://zoom.us/webinar/register/WN_qKjos6axRXOqXz5owShXAg
SUMMARY:San Francisco Disability Business Alliance Presents:  Future Entrepreneurs Series
DESCRIPTION:Stephen Dale\,  Katherine Carol and Dan Porter will feature dif
 ferent models for parents and adult children with disabilities spawning ide
 as around entrepreneurship.  Stephen W. Dale\,  Esq.\,  LL.M Attorney and 
 Counselor at Law. He is a nationally acclaimed disability rights advocate w
 ho specializes in empowering individuals with disabilities to thrive fully[
 ..]\nhttps://dalelawfirm.com/events/san-francisco-disability-alliance-prese
 nts-future-entrepreneurs-series/var/event_access
URL:https://dalelawfirm.com/events/san-francisco-disability-alliance-presents-future-entrepreneurs-series/var/event_access
END:VEVENT
END:VCALENDAR