BEGIN:VCALENDAR
VERSION:2.0
PRODID:-//eventon.com NONSGML v1.0//EN
CALSCALE:GREGORIAN
METHOD:PUBLISH
BEGIN:VEVENT
UID:69ed87858bfed
DTSTAMP:20260426T033325Z
DTSTART:20210313T200000Z
DTEND:20210313T140000Z
LOCATION:
SUMMARY:2021 Alameda County Virtual Transition Fair
DESCRIPTION:Educational Workshops from 9 AM &#8211; 3 PM Stephen Dale:  Sp
 ecial Needs Trusts and ABLE Accounts from 9:45 to 11:15 AM Jennifer Stenebe
 rg:  Conservatorships and Alternatives for Special Needs Adults from 11:30
  &#8211; 1:00 PM To Register:  Click Here FOR MORE INFORMATION CONTACT BEN
  CHEN\,  ALAMEDA COUNTY DEVELOPMENTAL DISABILITIES COUNCIL[..]\nhttps://dal
 elawfirm.com/events/2021-alameda-county-virtual-transition-fair/
URL:https://dalelawfirm.com/events/2021-alameda-county-virtual-transition-fair/
END:VEVENT
END:VCALENDAR