BEGIN:VCALENDAR
VERSION:2.0
PRODID:-//eventon.com NONSGML v1.0//EN
CALSCALE:GREGORIAN
METHOD:PUBLISH
BEGIN:VEVENT
UID:69ed8cac15a63
DTSTAMP:20260426T035524Z
DTSTART:20191114T190000Z
DTEND:20191114T210000Z
LOCATION:Lafayette\,  California contact highschool@seedlafayette.org for location
SUMMARY:Limited Conservatorship and Alternatives
DESCRIPTION:Jennifer Steneberg will  provide an overview of the limited co
 nservatorship process and address the most common questions asked by famili
 es who are planning for the future of a family member with an intellectual 
 or developmental disability. The presentation will include information abou
 t possible methods of retaining legal decision making authority[..]\nhttps:
 //dalelawfirm.com/events/limited-conservatorship-and-alternatives-to-limite
 d-conservatorship-jennifer-steneberg/
URL:https://dalelawfirm.com/events/limited-conservatorship-and-alternatives-to-limited-conservatorship-jennifer-steneberg/
END:VEVENT
END:VCALENDAR