BEGIN:VCALENDAR
VERSION:2.0
PRODID:-//eventon.com NONSGML v1.0//EN
CALSCALE:GREGORIAN
METHOD:PUBLISH
BEGIN:VEVENT
UID:69ed61f35901b
DTSTAMP:20260426T005307Z
DTSTART:20200220T150000Z
DTEND:20200220T170000Z
LOCATION:Dale Law Firm 127 Aspen Lane\,  Suite 100 Pacheco\,  CA 94553
SUMMARY:SNT with a Focus on Mental Health
DESCRIPTION:Presenter:  Stephen W. Dale This presentation will focus on 
 providing long term care for a person with a disability\,  with a special f
 ocus on maximizing quality of life. You will learn what to do to prepare fo
 r writing a Special Needs Trust. We also go through a simple 4-step process
  that will[..]\nhttps://dalelawfirm.com/events/snt-with-a-focus-on-mental-i
 llness/
URL:https://dalelawfirm.com/events/snt-with-a-focus-on-mental-illness/
END:VEVENT
END:VCALENDAR