BEGIN:VCALENDAR
VERSION:2.0
PRODID:-//eventon.com NONSGML v1.0//EN
CALSCALE:GREGORIAN
METHOD:PUBLISH
BEGIN:VEVENT
UID:69ed4b0b16219
DTSTAMP:20260425T231523Z
DTSTART:20200127T190000Z
DTEND:20200127T200000Z
LOCATION:North Region SELPA Office 1275 61st Street Emeryville\,  CA
SUMMARY:Conservatorship for Special Needs Adults - North Region SELPA Meeting
DESCRIPTION:Conservatorship for Special Needs Adults &#8211; Stephen W. Dal
 e This presentation will discuss the legal process for establishing a limit
 ed conservator and the role of a limited conservator on behalf of an adult 
 with developmental disabilities. It will also include information about alt
 ernate methods of retaining legal decision making authority[..]\nhttps://da
 lelawfirm.com/events/conservatorship-for-special-needs-adults-north-region-
 selpa-meeting/
URL:https://dalelawfirm.com/events/conservatorship-for-special-needs-adults-north-region-selpa-meeting/
END:VEVENT
END:VCALENDAR