BEGIN:VCALENDAR
VERSION:2.0
PRODID:-//eventon.com NONSGML v1.0//EN
CALSCALE:GREGORIAN
METHOD:PUBLISH
BEGIN:VEVENT
UID:69ed1b060ec37
DTSTAMP:20260425T195030Z
DTSTART:20200314T093000Z
DTEND:20200314T150000Z
LOCATION:College of Alameda 555 Ralph Apezzato Parkway Alameda\,  CA
SUMMARY:2020 Alameda County Transition Faire - Jennifer Steneberg
DESCRIPTION:Session 2 Workshop :  Limited Conservatorship and Alternatives
  to Limited Conservatorship  This workshop will address the most common qu
 estions faced by families who are planning for the future of a family membe
 r with a disability. It will also include information about possible method
 s of retaining legal decision-making authority for your[..]\nhttps://dalela
 wfirm.com/events/2020-alameda-county-transition-faire-jennifer-steneberg/
URL:https://dalelawfirm.com/events/2020-alameda-county-transition-faire-jennifer-steneberg/
END:VEVENT
END:VCALENDAR