BEGIN:VCALENDAR
VERSION:2.0
PRODID:-//eventon.com NONSGML v1.0//EN
CALSCALE:GREGORIAN
METHOD:PUBLISH
BEGIN:VEVENT
UID:69ed080da1e82
DTSTAMP:20260425T182933Z
DTSTART:20200721T113000Z
DTEND:20200721T130000Z
LOCATION:https://zoom.us/j/98020729832
SUMMARY:Affordable Housing in California with Tom Heinz
DESCRIPTION:All subscribers of the Dale Law Firm mailing list are invited t
 o the next GSPT webinar on Affordable Housing in California with Tom Heinz
 \,  the founder of East Bay Innovations\,  on Tuesday\,  July 21 from 11:
 30 am &#8211; 1:00 pm PT. Tom was the first Chairperson of the California S
 upported Living Network 1996-1998\, [..]\nhttps://dalelawfirm.com/events/af
 fordable-housing-in-california-with-tom-heinz/var/event_access
URL:https://dalelawfirm.com/events/affordable-housing-in-california-with-tom-heinz/var/event_access
END:VEVENT
END:VCALENDAR