BEGIN:VCALENDAR
VERSION:2.0
PRODID:-//eventon.com NONSGML v1.0//EN
CALSCALE:GREGORIAN
METHOD:PUBLISH
BEGIN:VEVENT
UID:69ecedac68f10
DTSTAMP:20260425T163700Z
DTSTART:20200729T110000Z
DTEND:20200729T120000Z
LOCATION:https://zoom.us/j/98020729832
SUMMARY:Accessing Public Benefits with Steve Dale
DESCRIPTION:This webinar will cover the basics of both needs-based programs
  (SSSI\,  Medi-Cal\,  Cal Fresh\,  IHSS) as well as entitlement programs (S
 SDI\,  Child Disability Benefits\,  Medicare). Steve will also discuss how 
 wage\,  unearned income\,  and resources effect medical benefits and contin
 uing entitlement to Social Security benefits and/or eligibility for the SSI
 [..]\nhttps://dalelawfirm.com/events/accessing-public-benefits-with-steve-d
 ale/var/event_access
URL:https://dalelawfirm.com/events/accessing-public-benefits-with-steve-dale/var/event_access
END:VEVENT
END:VCALENDAR