BEGIN:VCALENDAR
VERSION:2.0
PRODID:-//eventon.com NONSGML v1.0//EN
CALSCALE:GREGORIAN
METHOD:PUBLISH
BEGIN:VEVENT
UID:69ed0743e9589
DTSTAMP:20260425T182611Z
DTSTART:20200813T110000Z
DTEND:20200813T123000Z
LOCATION:https://register.gotowebinar.com/register/8854462105073141776
SUMMARY:Accessing Public Benefits with Steve Dale\,  a National Perspective -            sponsored by National Council on Severe Autism
DESCRIPTION:This webinar will cover the basics of both needs-based programs
  (SSSI\,  Medicaid\,  Food Stamps\, ) as well as entitlement programs (SSDI
 \,  Child Disability Benefits\,  Medicare). Steve will also discuss how wag
 e\,  unearned income\,  and resources effect medical benefits and continuin
 g entitlement to Social Security benefits and/or eligibility for the SSI pr
 ogram.[..]\nhttps://dalelawfirm.com/events/accessing-public-benefits-with-s
 teve-dale-a-national-perspective/var/event_access
URL:https://dalelawfirm.com/events/accessing-public-benefits-with-steve-dale-a-national-perspective/var/event_access
END:VEVENT
END:VCALENDAR