BEGIN:VCALENDAR
VERSION:2.0
PRODID:-//eventon.com NONSGML v1.0//EN
CALSCALE:GREGORIAN
METHOD:PUBLISH
BEGIN:VEVENT
UID:69ed1b4e3f603
DTSTAMP:20260425T195142Z
DTSTART:20200819T140000Z
DTEND:20200819T153000Z
LOCATION:https://attendee.gotowebinar.com/register/6666626380465643279
SUMMARY:CalABLE and Special Needs Trusts
DESCRIPTION:This webinar will be hosted by Dante Allen\,  CalABLE Executive
  Director\,  and Stephen W. Dale\,  Esq.  It will address the advantages a
 nd the limitations of ABLE accounts and special needs trusts\,  whether one
  might be preferred over the other or why someone might have both.  This w
 ebinar is hosted by[..]\nhttps://dalelawfirm.com/events/calable-and-special
 -needs-trusts/var/event_access
URL:https://dalelawfirm.com/events/calable-and-special-needs-trusts/var/event_access
END:VEVENT
END:VCALENDAR